BEGIN:VCALENDAR
VERSION:2.0
PRODID:icalendar-ruby
CALSCALE:GREGORIAN
METHOD:PUBLISH
BEGIN:VTIMEZONE
TZID:Europe/Isle_of_Man
BEGIN:DAYLIGHT
DTSTART:20260329T020000
TZOFFSETFROM:+0000
TZOFFSETTO:+0100
RRULE:FREQ=YEARLY;BYDAY=-1SU;BYMONTH=3
TZNAME:BST
END:DAYLIGHT
BEGIN:STANDARD
DTSTART:20261025T010000
TZOFFSETFROM:+0100
TZOFFSETTO:+0000
RRULE:FREQ=YEARLY;BYDAY=-1SU;BYMONTH=10
TZNAME:GMT
END:STANDARD
END:VTIMEZONE
BEGIN:VEVENT
DTSTAMP:20260419T232707Z
UID:1104731
DTSTART;TZID=Europe/Isle_of_Man:20260727T090000
DTEND;TZID=Europe/Isle_of_Man:20260731T153000
LOCATION:Bemahague Astro Pitch 
SEQUENCE:1776623331
SUMMARY:FC Isle of Man Summer 2026 Junior Football Camp 1
END:VEVENT
END:VCALENDAR
